BEGIN:VCALENDAR
VERSION:2.0
PRODID:-//ChamberMaster//Event Calendar 2.0//EN
METHOD:PUBLISH
X-PUBLISHED-TTL:P3D
REFRESH-INTERVAL:P3D
CALSCALE:GREGORIAN
BEGIN:VEVENT
DTSTART:20161113T190000Z
DTEND:20161113T210000Z
X-MICROSOFT-CDO-ALLDAYEVENT:FALSE
SUMMARY:YMCA Town Hall & Ribbon Cutting
DESCRIPTION:Join the YMCA for a ribbon cutting and town hall event at the YMCA of South Boston/Halifax County. Enjoy light refreshments\, see the new pool and learn of how our YMCA is renovating and improving to serve our amazing community.\n\n\n\nIf you plan to attend\, please email Kristen Zerbato at kzerbata@ymcashr.org and let her know how many people will be attending in your group.
X-ALT-DESC;FMTTYPE=text/html:Join the YMCA for a ribbon cutting and town hall event at the YMCA of South Boston/Halifax County. Enjoy light refreshments\, see the new pool and learn of how our YMCA is renovating and improving to serve our amazing community.<br />\n<br />\nIf you plan to attend\, please email Kristen Zerbato at <a href="mailto:kzerbata@ymcashr.org">kzerbata</a><a>@ymcashr.org</a> and let her know how many people will be attending in your group.
LOCATION:YMCA of South Boston/Halifax County 650 Hamilton Blvd. South Boston\, VA 24592
UID:e.845.5745
SEQUENCE:3
DTSTAMP:20260424T193316Z
URL:https://business.halifaxchamber.net/events/details/ymca-town-hall-ribbon-cutting-5745
END:VEVENT

END:VCALENDAR
