BEGIN:VCALENDAR
VERSION:2.0
PRODID:-//ChamberMaster//Event Calendar 2.0//EN
METHOD:PUBLISH
X-PUBLISHED-TTL:P3D
REFRESH-INTERVAL:P3D
CALSCALE:GREGORIAN
BEGIN:VEVENT
DTSTART:20190620T110000Z
DTEND:20190620T170000Z
X-MICROSOFT-CDO-ALLDAYEVENT:FALSE
SUMMARY:YMCA Water Camp
DESCRIPTION:Jump in for a full week of fun in the water at the YMCA! Each child will receive a least five 30-minute swim lessons\, learn how to be safe in and around the water and participate in water games in and out of the pool. Snacks will be provided.\n\n\n\nYMCA Member Rate: $60     Regular Rate: $100\n\n\n\nTo register for these camps\, please visit Member Services at the YMCA of South Boston/Halifax County or call (434)572-8909
X-ALT-DESC;FMTTYPE=text/html:Jump in for a full week of fun in the water at the YMCA! Each child will receive a least five 30-minute swim lessons\, learn how to be safe in and around the water and participate in water games in and out of the pool. Snacks will be provided.<br />\n<br />\nYMCA Member Rate: $60&nbsp\; &nbsp\; &nbsp\;Regular Rate: $100<br />\n<br />\nTo register for these camps\, please visit Member Services at the YMCA of South Boston/Halifax County or call (434)572-8909
LOCATION:YMCA of South Boston/Halifax County 650 Hamilton Blvd South Boston\, VA 24592
UID:e.845.13112
SEQUENCE:3
DTSTAMP:20260421T044104Z
URL:https://business.halifaxchamber.net/events/details/ymca-water-camp-06-20-2019-13112
END:VEVENT

END:VCALENDAR
