BEGIN:VCALENDAR
VERSION:2.0
PRODID:-//ChamberMaster//Event Calendar 2.0//EN
METHOD:PUBLISH
X-PUBLISHED-TTL:P3D
REFRESH-INTERVAL:P3D
CALSCALE:GREGORIAN
BEGIN:VEVENT
DTSTART:20190209T153000Z
DTEND:20190209T170000Z
X-MICROSOFT-CDO-ALLDAYEVENT:FALSE
SUMMARY:Yoga at Berry Hill By The Pool
DESCRIPTION:Ready for a change in your Saturday morning routine? Ready to spend some time concentrating on YOU and your well being? Join Donna Garrett poolside (indoors) at Berry Hill Resort a she takes us through a 75 minute yoga class. No experience necessary!\n\n\n\nBring a mat and water bottle\n\nGet 10% off lunch at Darby's or the spa
X-ALT-DESC;FMTTYPE=text/html:Ready for a change in your Saturday morning routine? Ready to spend some time concentrating on YOU and your well being? Join Donna Garrett poolside (indoors) at Berry Hill Resort a she takes us through a 75 minute yoga class. No experience necessary!<br />\n<br />\nBring a mat and water bottle<br />\nGet 10% off lunch at Darby&#39\;s or the spa
LOCATION:The Berry Hill Resort and Conference Center
UID:e.845.12022
SEQUENCE:3
DTSTAMP:20260423T090913Z
URL:https://business.halifaxchamber.net/events/details/yoga-at-berry-hill-by-the-pool-12022
END:VEVENT

END:VCALENDAR
