BEGIN:VCALENDAR
VERSION:2.0
PRODID:-//ChamberMaster//Event Calendar 2.0//EN
METHOD:PUBLISH
X-PUBLISHED-TTL:P3D
REFRESH-INTERVAL:P3D
CALSCALE:GREGORIAN
BEGIN:VEVENT
DTSTART:20190821T220000Z
DTEND:20190821T233000Z
X-MICROSOFT-CDO-ALLDAYEVENT:FALSE
SUMMARY:Yoga By The Pool
DESCRIPTION:Register at the spa before class.
X-ALT-DESC;FMTTYPE=text/html:<span style="caret-color: rgb(29\, 33\, 41)\; color: rgb(29\, 33\, 41)\; font-family: system-ui\, -apple-system\, BlinkMacSystemFont\, &quot\;.SFNSText-Regular&quot\;\, sans-serif\; font-size: 14px\; white-space: pre-wrap\; background-color: rgb(255\, 255\, 255)\;">Register at the spa before class.</span>
LOCATION:The Berry Hill Resort 3105 River Road South Boston\, VA 24592
UID:e.845.12508
SEQUENCE:3
DTSTAMP:20260421T012433Z
URL:https://business.halifaxchamber.net/events/details/yoga-by-the-pool-08-21-2019-12508
END:VEVENT

END:VCALENDAR
