BEGIN:VCALENDAR
VERSION:2.0
PRODID:-//ChamberMaster//Event Calendar 2.0//EN
METHOD:PUBLISH
X-PUBLISHED-TTL:P3D
REFRESH-INTERVAL:P3D
CALSCALE:GREGORIAN
BEGIN:VEVENT
DTSTART:20191214T153000Z
DTEND:20191214T163000Z
X-MICROSOFT-CDO-ALLDAYEVENT:FALSE
SUMMARY:Yoga Flow Class
DESCRIPTION:$10 per class\n\n$5 for students and military\n\n\n\nPlease register 15 minutes before class.
X-ALT-DESC;FMTTYPE=text/html:<span style="color:rgb(29\, 33\, 41)\; font-family:system-ui\,-apple-system\,system-ui\,.sfnstext-regular\,sans-serif\; font-size:14px">$10 per class</span><br />\n<span style="color:rgb(29\, 33\, 41)\; font-family:system-ui\,-apple-system\,system-ui\,.sfnstext-regular\,sans-serif\; font-size:14px">$5 for students and military</span><br />\n<br />\n<span style="color:rgb(29\, 33\, 41)\; font-family:system-ui\,-apple-system\,system-ui\,.sfnstext-regular\,sans-serif\; font-size:14px">Please register 15 minutes before class.</span>
LOCATION:Berry Hill Resort 3105 River Rd\, South Boston\, VA 24592
UID:e.845.15608
SEQUENCE:3
DTSTAMP:20260420T182901Z
URL:https://business.halifaxchamber.net/events/details/yoga-flow-class-12-14-2019-15608
END:VEVENT

END:VCALENDAR
