BEGIN:VCALENDAR
VERSION:2.0
PRODID:-//ChamberMaster//Event Calendar 2.0//EN
METHOD:PUBLISH
X-PUBLISHED-TTL:P3D
REFRESH-INTERVAL:P3D
CALSCALE:GREGORIAN
BEGIN:VEVENT
DTSTART:20191123T153000Z
DTEND:20191123T163000Z
X-MICROSOFT-CDO-ALLDAYEVENT:FALSE
SUMMARY:Yoga Flow Class
DESCRIPTION:Enjoy Yoga Flow class at Berry Hill Resort\n\nPlease register 15 minutes before class
X-ALT-DESC;FMTTYPE=text/html:Enjoy Yoga Flow class at Berry Hill Resort<br />\nPlease register 15 minutes before class
LOCATION:Berry Hill Resort 3105 River Road South Boston\, VA 24592
UID:e.845.15552
SEQUENCE:3
DTSTAMP:20260420T214631Z
URL:https://business.halifaxchamber.net/events/details/yoga-flow-class-15552
END:VEVENT

END:VCALENDAR
