BEGIN:VCALENDAR
VERSION:2.0
PRODID:-//ChamberMaster//Event Calendar 2.0//EN
METHOD:PUBLISH
X-PUBLISHED-TTL:P3D
REFRESH-INTERVAL:P3D
CALSCALE:GREGORIAN
BEGIN:VEVENT
DTSTART:20200624T130000Z
DTEND:20200624T150000Z
X-MICROSOFT-CDO-ALLDAYEVENT:FALSE
SUMMARY:You've Reopened Your Dining Room\; What Still Needs Refinement?
DESCRIPTION:This workshop consists of a facilitated discussion in which participants exchange best practices regarding what strategies seem to be working best under COVID-19 conditions. The focus of the discussion will be upon how restaurants can return to pre-pandemic levels of profitablility. The facilitators of the workshop will inform the discussion by providing emerging research and industry best practices.\n\n \n\nPlease join Dr. Vincent Magnini\, Ph.D. & Carol Simon\, MBA\,\n\nvia ZOOM for this informative virtual session. \n\nPresented in 3 time slots for your convenience!\n\n \n\nSEATING IS LIMITED TO 12 PARTICIPANTS PER SESSION\n\n \n\n \n\nFacilitator Bios\n\n \n\nCarol Simon\, MBA is currently the Taskforce General Manager at the San Francisco Marriott Fisherman's Wharf. This hotel typically generates over $2 million in food and beverage revenues per year. As the General Manager\, Carol is tasked with leading her team in the implementation of all changes that should be made to food and beverage operations as a result of the COVID-19 pandemic. Therefore\, Carol is up-to-date on the most recent adaptations to restaurants that are needed during and following the pandemic.\n\n \n\nCarol has worked in the hospitality sector for more than 35 years. She holds an MBA from Golden Gate University and a Bachelor's Degree from Arizona State University.\n\n \n\nVince Magnini\, Ph.D. is a graduate of the U.S. Army Foodservice School and has worked at or consulted for a number of restaurants. He has taught college-level courses in menu planning / food production\, service management\, and catering management. His hospitality industry research has led him to be ranked among the most prolific hospitality researchers in the world.\n\n \n\nIn addition to the U.S. Army Foodservice diploma\, Vince holds a B.S. in hospitality and tourism management (Virginia Tech)\, an MBA (Wichita State University)\, and a Ph.D. in Marketing (Old Dominion University).
X-ALT-DESC;FMTTYPE=text/html:<div style="caret-color: rgb(37\, 78\, 112)\; color: rgb(37\, 78\, 112)\; font-family: &quot\;Century Gothic&quot\;\, Calibri\, Helvetica\, Arial\, sans-serif\; font-size: 14px\; text-size-adjust: auto\;"><span style="font-size: 16px\; color: rgb(76\, 76\, 76)\; font-weight: bold\;">This workshop consists of a facilitated discussion in which participants exchange best practices regarding what strategies seem to be working best under COVID-19 conditions. The focus of the discussion will be upon how restaurants can return to pre-pandemic levels of profitablility. The facilitators of the workshop will inform the discussion by providing emerging research and industry best practices.</span></div>\n\n<div style="caret-color: rgb(37\, 78\, 112)\; color: rgb(37\, 78\, 112)\; font-family: &quot\;Century Gothic&quot\;\, Calibri\, Helvetica\, Arial\, sans-serif\; font-size: 14px\; text-size-adjust: auto\;">&nbsp\;</div>\n\n<div align="center" style="caret-color: rgb(37\, 78\, 112)\; color: rgb(37\, 78\, 112)\; font-family: &quot\;Century Gothic&quot\;\, Calibri\, Helvetica\, Arial\, sans-serif\; font-size: 14px\; text-size-adjust: auto\; text-align: center\;"><span style="font-size: 16px\; color: rgb(76\, 76\, 76)\;">Please join Dr. Vincent Magnini\, Ph.D. &amp\; Carol Simon\, MBA\,</span></div>\n\n<div align="center" style="caret-color: rgb(37\, 78\, 112)\; color: rgb(37\, 78\, 112)\; font-family: &quot\;Century Gothic&quot\;\, Calibri\, Helvetica\, Arial\, sans-serif\; font-size: 14px\; text-size-adjust: auto\; text-align: center\;"><span style="font-size: 16px\; color: rgb(76\, 76\, 76)\;">via ZOOM for this informative virtual session.</span><span style="font-size: 16px\; color: rgb(76\, 76\, 76)\; font-family: &quot\;Segoe UI&quot\;\, &quot\;Lucida Grande&quot\;\, Tahoma\, sans-serif\;">&nbsp\;</span></div>\n\n<div align="center" style="caret-color: rgb(37\, 78\, 112)\; color: rgb(37\, 78\, 112)\; font-family: &quot\;Century Gothic&quot\;\, Calibri\, Helvetica\, Arial\, sans-serif\; font-size: 14px\; text-size-adjust: auto\; text-align: center\;"><span style="font-size: 16px\; color: rgb(76\, 76\, 76)\;">Presented in 3 time slots for your convenience!</span></div>\n\n<div align="center" style="caret-color: rgb(37\, 78\, 112)\; color: rgb(37\, 78\, 112)\; font-family: &quot\;Century Gothic&quot\;\, Calibri\, Helvetica\, Arial\, sans-serif\; font-size: 14px\; text-size-adjust: auto\; text-align: center\;">&nbsp\;</div>\n\n<div align="center" style="caret-color: rgb(37\, 78\, 112)\; color: rgb(37\, 78\, 112)\; font-family: &quot\;Century Gothic&quot\;\, Calibri\, Helvetica\, Arial\, sans-serif\; font-size: 14px\; text-size-adjust: auto\; text-align: center\;"><span style="font-size: 18px\; color: rgb(76\, 76\, 76)\; font-weight: bold\;">SEATING IS LIMITED TO 12 PARTICIPANTS PER SESSION</span></div>\n\n<div style="caret-color: rgb(37\, 78\, 112)\; color: rgb(37\, 78\, 112)\; font-family: &quot\;Century Gothic&quot\;\, Calibri\, Helvetica\, Arial\, sans-serif\; font-size: 14px\; text-size-adjust: auto\;">&nbsp\;</div>\n\n<div style="caret-color: rgb(37\, 78\, 112)\; color: rgb(37\, 78\, 112)\; font-family: &quot\;Century Gothic&quot\;\, Calibri\, Helvetica\, Arial\, sans-serif\; font-size: 14px\; text-size-adjust: auto\;">&nbsp\;</div>\n\n<div style="caret-color: rgb(37\, 78\, 112)\; color: rgb(37\, 78\, 112)\; font-family: &quot\;Century Gothic&quot\;\, Calibri\, Helvetica\, Arial\, sans-serif\; font-size: 14px\; text-size-adjust: auto\;"><span style="color: rgb(76\, 76\, 76)\; font-weight: bold\;">Facilitator Bios</span></div>\n\n<div style="caret-color: rgb(37\, 78\, 112)\; color: rgb(37\, 78\, 112)\; font-family: &quot\;Century Gothic&quot\;\, Calibri\, Helvetica\, Arial\, sans-serif\; font-size: 14px\; text-size-adjust: auto\;">&nbsp\;</div>\n\n<div style="caret-color: rgb(37\, 78\, 112)\; color: rgb(37\, 78\, 112)\; font-family: &quot\;Century Gothic&quot\;\, Calibri\, Helvetica\, Arial\, sans-serif\; font-size: 14px\; text-size-adjust: auto\;"><span style="color: rgb(76\, 76\, 76)\; font-weight: bold\;">Carol Simon\, MBA</span><span style="color: rgb(76\, 76\, 76)\;"> is currently the Taskforce General Manager at the San Francisco Marriott Fisherman&rsquo\;s Wharf. This hotel typically generates over $2 million in food and beverage revenues per year. As the General Manager\, Carol is tasked with leading her team in the implementation of all changes that should be made to food and beverage operations as a result of the COVID-19 pandemic. Therefore\, Carol is up-to-date on the most recent adaptations to restaurants that are needed during and following the pandemic.</span></div>\n\n<div style="caret-color: rgb(37\, 78\, 112)\; color: rgb(37\, 78\, 112)\; font-family: &quot\;Century Gothic&quot\;\, Calibri\, Helvetica\, Arial\, sans-serif\; font-size: 14px\; text-size-adjust: auto\;">&nbsp\;</div>\n\n<div style="caret-color: rgb(37\, 78\, 112)\; color: rgb(37\, 78\, 112)\; font-family: &quot\;Century Gothic&quot\;\, Calibri\, Helvetica\, Arial\, sans-serif\; font-size: 14px\; text-size-adjust: auto\;"><span style="color: rgb(76\, 76\, 76)\;">Carol has worked in the hospitality sector for more than 35 years. She holds an MBA from Golden Gate University and a Bachelor&rsquo\;s Degree from Arizona State University.</span></div>\n\n<div style="caret-color: rgb(37\, 78\, 112)\; color: rgb(37\, 78\, 112)\; font-family: &quot\;Century Gothic&quot\;\, Calibri\, Helvetica\, Arial\, sans-serif\; font-size: 14px\; text-size-adjust: auto\;">&nbsp\;</div>\n\n<div style="caret-color: rgb(37\, 78\, 112)\; color: rgb(37\, 78\, 112)\; font-family: &quot\;Century Gothic&quot\;\, Calibri\, Helvetica\, Arial\, sans-serif\; font-size: 14px\; text-size-adjust: auto\;"><span style="color: rgb(76\, 76\, 76)\; font-weight: bold\;">Vince Magnini\, Ph.D.</span><span style="color: rgb(76\, 76\, 76)\;"> is a graduate of the U.S. Army Foodservice School and has worked at or consulted for a number of restaurants. He has taught college-level courses in menu planning / food production\, service management\, and catering management. His hospitality industry research has led him to be ranked among the most prolific hospitality researchers in the world.</span></div>\n\n<div style="caret-color: rgb(37\, 78\, 112)\; color: rgb(37\, 78\, 112)\; font-family: &quot\;Century Gothic&quot\;\, Calibri\, Helvetica\, Arial\, sans-serif\; font-size: 14px\; text-size-adjust: auto\;">&nbsp\;</div>\n\n<div style="caret-color: rgb(37\, 78\, 112)\; color: rgb(37\, 78\, 112)\; font-family: &quot\;Century Gothic&quot\;\, Calibri\, Helvetica\, Arial\, sans-serif\; font-size: 14px\; text-size-adjust: auto\;"><span style="color: rgb(76\, 76\, 76)\;">In addition to the U.S. Army Foodservice diploma\, Vince holds a B.S. in hospitality and tourism management (Virginia Tech)\, an MBA (Wichita State University)\, and a Ph.D. in Marketing (Old Dominion University).</span></div>\n
LOCATION:Register at https://clients.virginiasbdc.org/workshop.aspx?ekey=90400024
UID:e.845.17671
SEQUENCE:3
DTSTAMP:20260420T082401Z
URL:https://business.halifaxchamber.net/events/details/you-ve-reopened-your-dining-room-what-still-needs-refinement-17671
END:VEVENT

END:VCALENDAR
