BEGIN:VCALENDAR
VERSION:2.0
PRODID:-//ChamberMaster//Event Calendar 2.0//EN
METHOD:PUBLISH
X-PUBLISHED-TTL:P3D
REFRESH-INTERVAL:P3D
CALSCALE:GREGORIAN
BEGIN:VEVENT
DTSTART:20191026T130000Z
DTEND:20191026T160000Z
X-MICROSOFT-CDO-ALLDAYEVENT:FALSE
SUMMARY:Young Entrepreneurs Day
DESCRIPTION:Join Victorious Ambition as they attempt to transform local middle and high school students into real\, confident entrepreneurs.\n\nVarious employers will be there to conduct mock interviews\, as well as entrepreneurs to discuss successful business tactics.
X-ALT-DESC;FMTTYPE=text/html:Join Victorious Ambition as they attempt to transform local middle and high school students into real\, confident entrepreneurs.<br />\nVarious employers will be there to conduct mock interviews\, as well as entrepreneurs to discuss successful business tactics.
LOCATION:Halifax Middle School 1011 Middle School Circle South Boston\, VA 24592
UID:e.845.14470
SEQUENCE:3
DTSTAMP:20260420T215121Z
URL:https://business.halifaxchamber.net/events/details/young-entrepreneurs-day-14470
END:VEVENT

END:VCALENDAR
