BEGIN:VCALENDAR
VERSION:2.0
PRODID:-//ChamberMaster//Event Calendar 2.0//EN
METHOD:PUBLISH
X-PUBLISHED-TTL:P3D
REFRESH-INTERVAL:P3D
CALSCALE:GREGORIAN
BEGIN:VEVENT
DTSTART:20191023T210000Z
DTEND:20191023T230000Z
X-MICROSOFT-CDO-ALLDAYEVENT:FALSE
SUMMARY:Youth Basketball Sign-Ups
DESCRIPTION:Registration is free during this time.\n\nThere is a fee for late sign-ups.
X-ALT-DESC;FMTTYPE=text/html:Registration is free during this time.<br />\nThere is a fee for late sign-ups.
LOCATION:South Boston Recreation Center 1620 Jeffress Blvd South Boston\, VA 24592
UID:e.845.14490
SEQUENCE:3
DTSTAMP:20260420T220925Z
URL:https://business.halifaxchamber.net/events/details/youth-basketball-sign-ups-14490
END:VEVENT

END:VCALENDAR
