BEGIN:VCALENDAR
VERSION:2.0
PRODID:-//ChamberMaster//Event Calendar 2.0//EN
METHOD:PUBLISH
X-PUBLISHED-TTL:P3D
REFRESH-INTERVAL:P3D
CALSCALE:GREGORIAN
BEGIN:VEVENT
DTSTART:20191101T210000Z
DTEND:20191102T020000Z
X-MICROSOFT-CDO-ALLDAYEVENT:FALSE
SUMMARY:Zombie Laser Tag
DESCRIPTION:Join World of Sports for their annual laser tag night!\n\nNo reservations required.\n\n$15 Unlimited.
X-ALT-DESC;FMTTYPE=text/html:Join World of Sports for their annual laser tag night!<br />\nNo reservations required.<br />\n$15 Unlimited.
LOCATION:World of Sports 2030 Bill Tuck Highway South Boston\, VA 24592
UID:e.845.15494
SEQUENCE:3
DTSTAMP:20260420T214906Z
URL:https://business.halifaxchamber.net/events/details/zombie-laser-tag-15494
END:VEVENT

END:VCALENDAR
